BEGIN:VCALENDAR
VERSION:2.0
CALSCALE:GREGORIAN
PRODID:-//Diputació de Barcelona//DibaCMS//EN
BEGIN:VEVENT
UID:22487
DTSTAMP:20260424T065521
DTSTART:20240309T100000
DTEND:20240309T100000
SUMMARY:Fusteria, tapisseria i restauració de mobles
LOCATION:Plaça Lluís Companys, 2 08755 Castellbisbal
METHOD:PUBLISH
X-WR-CALNAME:comunicacio@castellbisbal.cat
X-WR-TIMEZONE:Europe/Madrid
DESCRIPTION:De 10.00 a 13.00 hores, al Punt Verd

URI:https://www.castellbisbal.cat/actualitat/agenda/22487-fusteria-tapisseria-i-restauracio-de-mobles.html
CLASS:PUBLIC
END:VEVENT
END:VCALENDAR
