BEGIN:VCALENDAR
VERSION:2.0
CALSCALE:GREGORIAN
PRODID:-//Diputació de Barcelona//DibaCMS//EN
BEGIN:VEVENT
UID:22489
DTSTAMP:20260423T092349
DTSTART:20240413T100000
DTEND:20240413T100000
SUMMARY:Manteniment i reparació de bicicletes
LOCATION:Plaça Lluís Companys, 2 08755 Castellbisbal
METHOD:PUBLISH
X-WR-CALNAME:comunicacio@castellbisbal.cat
X-WR-TIMEZONE:Europe/Madrid
DESCRIPTION:De 10.00 a 13.00 hores, al Punt Verd

URI:https://www.castellbisbal.cat/actualitat/agenda/22489-manteniment-i-reparacio-de-bicicletes.html
CLASS:PUBLIC
END:VEVENT
END:VCALENDAR
