BEGIN:VCALENDAR
VERSION:2.0
CALSCALE:GREGORIAN
PRODID:-//Diputació de Barcelona//DibaCMS//EN
BEGIN:VEVENT
UID:22505
DTSTAMP:20260425T040312
DTSTART:20240315T170000
DTEND:20240315T170000
SUMMARY:Taller: Ganxet bàsic amb restes de llanes
LOCATION:Plaça Lluís Companys, 2 08755 Castellbisbal
METHOD:PUBLISH
X-WR-CALNAME:comunicacio@castellbisbal.cat
X-WR-TIMEZONE:Europe/Madrid
DESCRIPTION:De 17.00 a 19.30 hores, al Punt Verd.

URI:https://www.castellbisbal.cat/actualitat/agenda/taller-ganxet-basic-amb-restes-de-llanes.html
CLASS:PUBLIC
END:VEVENT
END:VCALENDAR
