BEGIN:VCALENDAR
VERSION:2.0
CALSCALE:GREGORIAN
PRODID:-//Diputació de Barcelona//DibaCMS//EN
BEGIN:VEVENT
UID:22508
DTSTAMP:20260422T235512
DTSTART:20240614T170000
DTEND:20240614T170000
SUMMARY:Taller: Coixins amb samarretes i roba vella
LOCATION:Plaça Lluís Companys, 2 08755 Castellbisbal
METHOD:PUBLISH
X-WR-CALNAME:comunicacio@castellbisbal.cat
X-WR-TIMEZONE:Europe/Madrid
DESCRIPTION:De 17.00 a 19.30 hores, al Punt Verd.

URI:https://www.castellbisbal.cat/actualitat/agenda/taller-coixins-amb-samarretes-i-roba-vella.html
CLASS:PUBLIC
END:VEVENT
END:VCALENDAR
