BEGIN:VCALENDAR
VERSION:2.0
CALSCALE:GREGORIAN
PRODID:-//Diputació de Barcelona//DibaCMS//EN
BEGIN:VEVENT
UID:22510
DTSTAMP:20260423T015628
DTSTART:20240920T170000
DTEND:20240920T170000
SUMMARY:Taller: Estalviem energia fent bricolatge. Il·luminació eficient.
LOCATION:Plaça Lluís Companys, 2 08755 Castellbisbal
METHOD:PUBLISH
X-WR-CALNAME:comunicacio@castellbisbal.cat
X-WR-TIMEZONE:Europe/Madrid
DESCRIPTION:De 17.00 a 19.30 hores, al Punt Verd.

URI:https://www.castellbisbal.cat/actualitat/agenda/22510-taller-estalviem-energia-fent-bricolatge-illuminacio-eficient.html
CLASS:PUBLIC
END:VEVENT
END:VCALENDAR
