BEGIN:VCALENDAR
VERSION:2.0
CALSCALE:GREGORIAN
PRODID:-//Diputació de Barcelona//DibaCMS//EN
BEGIN:VEVENT
UID:22526
DTSTAMP:20260424T205500
DTSTART:20240227T180000
DTEND:20240227T180000
SUMMARY:Els dilemes morals
LOCATION:Carrer Francesc Macià, 64 08755 Castellbisbal
METHOD:PUBLISH
X-WR-CALNAME:comunicacio@castellbisbal.cat
X-WR-TIMEZONE:Europe/Madrid
DESCRIPTION:A les 18.00 hores, al Racó Jove.

URI:https://www.castellbisbal.cat/actualitat/agenda/els-dilemes-morals.html
CLASS:PUBLIC
END:VEVENT
END:VCALENDAR
