BEGIN:VCALENDAR
VERSION:2.0
CALSCALE:GREGORIAN
PRODID:-//Diputació de Barcelona//DibaCMS//EN
BEGIN:VEVENT
UID:22536
DTSTAMP:20260423T143618
DTSTART:20240208T170000
DTEND:20240208T170000
SUMMARY:Tallers infantils de Carnestoltes
LOCATION:08755 Castellbisbal
METHOD:PUBLISH
X-WR-CALNAME:comunicacio@castellbisbal.cat
X-WR-TIMEZONE:Europe/Madrid
DESCRIPTION:A les 17.00 hores, a la Plaça de l'Església

URI:https://www.castellbisbal.cat/actualitat/agenda/tallers-infantils-de-carnestoltes.html
CLASS:PUBLIC
END:VEVENT
END:VCALENDAR
