BEGIN:VCALENDAR
VERSION:2.0
CALSCALE:GREGORIAN
PRODID:-//Diputació de Barcelona//DibaCMS//EN
BEGIN:VEVENT
UID:22539
DTSTAMP:20260424T232109
DTSTART:20240210T200000
DTEND:20240210T200000
SUMMARY:Inici de la Rua de Carnestoltes
LOCATION:Av. de Pau Casals, 16 08755 Castellbisbal
METHOD:PUBLISH
X-WR-CALNAME:comunicacio@castellbisbal.cat
X-WR-TIMEZONE:Europe/Madrid
DESCRIPTION:Sortida a les 20.00 hores, des d'Els Costals

URI:https://www.castellbisbal.cat/actualitat/agenda/22539-inici-de-la-rua-de-carnestoltes.html
CLASS:PUBLIC
END:VEVENT
END:VCALENDAR
