BEGIN:VCALENDAR
VERSION:2.0
CALSCALE:GREGORIAN
PRODID:-//Diputació de Barcelona//DibaCMS//EN
BEGIN:VEVENT
UID:22540
DTSTAMP:20260425T010337
DTSTART:20240210T230000
DTEND:20240210T230000
SUMMARY:Concert Akelarre i Dj Suit & Music
LOCATION:Av. de Pau Casals 7 08755 Castellbisbal
METHOD:PUBLISH
X-WR-CALNAME:comunicacio@castellbisbal.cat
X-WR-TIMEZONE:Europe/Madrid
DESCRIPTION:A les 23.00 hores, al Casal Cultural i Recreatiu

URI:https://www.castellbisbal.cat/actualitat/agenda/concert-akelarre-i-dj-suit-and-music.html
CLASS:PUBLIC
END:VEVENT
END:VCALENDAR
