BEGIN:VCALENDAR
VERSION:2.0
CALSCALE:GREGORIAN
PRODID:-//Diputació de Barcelona//DibaCMS//EN
BEGIN:VEVENT
UID:22541
DTSTAMP:20260425T023647
DTSTART:20240211T113000
DTEND:20240211T113000
SUMMARY:Cercavila infantil de Carnestoltes
LOCATION:
METHOD:PUBLISH
X-WR-CALNAME:comunicacio@castellbisbal.cat
X-WR-TIMEZONE:Europe/Madrid
DESCRIPTION:Sortida a les 11.30 hores, de La Bassa

URI:https://www.castellbisbal.cat/actualitat/agenda/22541-cercavila-infantil-de-carnestoltes.html
CLASS:PUBLIC
END:VEVENT
END:VCALENDAR
