BEGIN:VCALENDAR
VERSION:2.0
CALSCALE:GREGORIAN
PRODID:-//Diputació de Barcelona//DibaCMS//EN
BEGIN:VEVENT
UID:22542
DTSTAMP:20260425T010300
DTSTART:20240214T183000
DTEND:20240214T183000
SUMMARY:Gala de lliurament de premis del Carnestoltes
LOCATION:Avinguda Pau Casals, 16 08755 Castellbisbal
METHOD:PUBLISH
X-WR-CALNAME:comunicacio@castellbisbal.cat
X-WR-TIMEZONE:Europe/Madrid
DESCRIPTION:A les 18.30 hores, a l'Espai Montserrat Roig d'Els Costals

URI:https://www.castellbisbal.cat/actualitat/agenda/gala-de-lliurament-de-premis-del-carnestoltes.html
CLASS:PUBLIC
END:VEVENT
END:VCALENDAR
