BEGIN:VCALENDAR
VERSION:2.0
CALSCALE:GREGORIAN
PRODID:-//Diputació de Barcelona//DibaCMS//EN
BEGIN:VEVENT
UID:22555
DTSTAMP:20260424T110440
DTSTART:20240221T170000
DTEND:20240221T170000
SUMMARY:Portes obertes Institut - Escola Les Vinyes
LOCATION:C. Major, 109 08755 Castellbisbal
METHOD:PUBLISH
X-WR-CALNAME:comunicacio@castellbisbal.cat
X-WR-TIMEZONE:Europe/Madrid
DESCRIPTION:De 17.00 a 19.00 hores, a l'Institut - Escola Les Vinyes

URI:https://www.castellbisbal.cat/actualitat/agenda/22555-portes-obertes-institut-escola-les-vinyes.html
CLASS:PUBLIC
END:VEVENT
END:VCALENDAR
