BEGIN:VCALENDAR
VERSION:2.0
CALSCALE:GREGORIAN
PRODID:-//Diputació de Barcelona//DibaCMS//EN
BEGIN:VEVENT
UID:22557
DTSTAMP:20260424T081407
DTSTART:20240224T110000
DTEND:20240224T110000
SUMMARY:Portes obertes Escola Mare de Déu de Montserrat
LOCATION:Av. de Pau Casals, 20 08755 Castellbisbal
METHOD:PUBLISH
X-WR-CALNAME:comunicacio@castellbisbal.cat
X-WR-TIMEZONE:Europe/Madrid
DESCRIPTION:A les 11.00 hores, a l'Escola Mare de Déu de Montserrat

URI:https://www.castellbisbal.cat/actualitat/agenda/22557-portes-obertes-escola-mare-de-deu-de-montserrat.html
CLASS:PUBLIC
END:VEVENT
END:VCALENDAR
