BEGIN:VCALENDAR
VERSION:2.0
CALSCALE:GREGORIAN
PRODID:-//Diputació de Barcelona//DibaCMS//EN
BEGIN:VEVENT
UID:22558
DTSTAMP:20260424T063455
DTSTART:20240228T151500
DTEND:20240228T151500
SUMMARY:Portes obertes Escola Els Arenys
LOCATION:C. dels Països Catalans, 42 08755 Castellbisbal
METHOD:PUBLISH
X-WR-CALNAME:comunicacio@castellbisbal.cat
X-WR-TIMEZONE:Europe/Madrid
DESCRIPTION:De 15.15 a 16.30 i de 16.45 a 18.15 hores, a l'Escola Els Arenys

URI:https://www.castellbisbal.cat/actualitat/agenda/22558-portes-obertes-escola-els-arenys.html
CLASS:PUBLIC
END:VEVENT
END:VCALENDAR
