BEGIN:VCALENDAR
VERSION:2.0
CALSCALE:GREGORIAN
PRODID:-//Diputació de Barcelona//DibaCMS//EN
BEGIN:VEVENT
UID:22559
DTSTAMP:20260423T113755
DTSTART:20240301T091500
DTEND:20240301T170000
SUMMARY:Portes obertes Escola Benviure
LOCATION:C. de Sant Mateu, 20 08755 Castellbisbal
METHOD:PUBLISH
X-WR-CALNAME:comunicacio@castellbisbal.cat
X-WR-TIMEZONE:Europe/Madrid
DESCRIPTION:Mati i tarda, a l'Escola Benviure

URI:https://www.castellbisbal.cat/actualitat/agenda/22559-portes-obertes-escola-benviure.html
CLASS:PUBLIC
END:VEVENT
END:VCALENDAR
