BEGIN:VCALENDAR
VERSION:2.0
CALSCALE:GREGORIAN
PRODID:-//Diputació de Barcelona//DibaCMS//EN
BEGIN:VEVENT
UID:22563
DTSTAMP:20260423T100207
DTSTART:20240508T170000
DTEND:20240508T170000
SUMMARY:Portes obertes Escola Municipal de Música Miquel Blanch
LOCATION:Plaça de l'Esglèsia, 2 08755 Castellbisbal
METHOD:PUBLISH
X-WR-CALNAME:comunicacio@castellbisbal.cat
X-WR-TIMEZONE:Europe/Madrid
DESCRIPTION:A partir de les 17.00 hores, a l'Escola Municipal de Música Miquel Blanch

URI:https://www.castellbisbal.cat/actualitat/agenda/22563-portes-obertes-escola-municipal-de-musica-miquel-blanch.html
CLASS:PUBLIC
END:VEVENT
END:VCALENDAR
