BEGIN:VCALENDAR
VERSION:2.0
CALSCALE:GREGORIAN
PRODID:-//Diputació de Barcelona//DibaCMS//EN
BEGIN:VEVENT
UID:22590
DTSTAMP:20260424T224751
DTSTART:20240222T140000
DTEND:20240222T140000
SUMMARY:Curs: Claus i novetats de la factura electrònica
LOCATION:Avinguda de Pau Casals, 9 08755 Castellbisbal
METHOD:PUBLISH
X-WR-CALNAME:comunicacio@castellbisbal.cat
X-WR-TIMEZONE:Europe/Madrid
DESCRIPTION:A les 14.00 hores, a la sala de plens de l'Ajuntament 

URI:https://www.castellbisbal.cat/actualitat/agenda/curs-claus-i-novetats-de-la-factura-electronica.html
CLASS:PUBLIC
END:VEVENT
END:VCALENDAR
