BEGIN:VCALENDAR
VERSION:2.0
CALSCALE:GREGORIAN
PRODID:-//Diputació de Barcelona//DibaCMS//EN
BEGIN:VEVENT
UID:22594
DTSTAMP:20260425T005124
DTSTART:20240218T090000
DTEND:20240218T090000
SUMMARY:14a Cursa de muntanya 
LOCATION:
METHOD:PUBLISH
X-WR-CALNAME:comunicacio@castellbisbal.cat
X-WR-TIMEZONE:Europe/Madrid
DESCRIPTION:A partir de les 9.00 hores, sortida des del Casal Cultural i Recreatiu

URI:https://www.castellbisbal.cat/actualitat/agenda/14a-cursa-de-muntanya-.html
CLASS:PUBLIC
END:VEVENT
END:VCALENDAR
