BEGIN:VCALENDAR
VERSION:2.0
CALSCALE:GREGORIAN
PRODID:-//Diputació de Barcelona//DibaCMS//EN
BEGIN:VEVENT
UID:22595
DTSTAMP:20260424T151716
DTSTART:20240221T180000
DTEND:20240221T180000
SUMMARY:Sessió informativa: El futur dels horts urbans
LOCATION:Avinguda de Pau Casals, 9 08755 Castellbisbal
METHOD:PUBLISH
X-WR-CALNAME:comunicacio@castellbisbal.cat
X-WR-TIMEZONE:Europe/Madrid
DESCRIPTION:A les 18.00 hores, a la sala de plens de l'Ajuntament

URI:https://www.castellbisbal.cat/actualitat/agenda/sessio-informativa-el-futur-dels-horts-urbans.html
CLASS:PUBLIC
END:VEVENT
END:VCALENDAR
