BEGIN:VCALENDAR
VERSION:2.0
CALSCALE:GREGORIAN
PRODID:-//Diputació de Barcelona//DibaCMS//EN
BEGIN:VEVENT
UID:22598
DTSTAMP:20260425T040005
DTSTART:20240216T093000
DTEND:20240216T093000
SUMMARY:Jornada: Afectació de la situació d'emergència per sequera a la indústria
LOCATION:Avinguda de Pau Casals, 9 08755 Castellbisbal
METHOD:PUBLISH
X-WR-CALNAME:comunicacio@castellbisbal.cat
X-WR-TIMEZONE:Europe/Madrid
DESCRIPTION:A les 9.30 hores, a la sala de plens de l'Ajuntament.

URI:https://www.castellbisbal.cat/actualitat/agenda/jornada-afectacio-de-la-situacio-demergencia-per-sequera-a-la-industria.html
CLASS:PUBLIC
END:VEVENT
END:VCALENDAR
