BEGIN:VCALENDAR
VERSION:2.0
CALSCALE:GREGORIAN
PRODID:-//Diputació de Barcelona//DibaCMS//EN
BEGIN:VEVENT
UID:22607
DTSTAMP:20260424T171657
DTSTART:20240221T190000
DTEND:20240221T190000
SUMMARY:XVIII Jornades d'Astronomia 
LOCATION:Av. de Pau Casals, 20 08755 Castellbisbal
METHOD:PUBLISH
X-WR-CALNAME:comunicacio@castellbisbal.cat
X-WR-TIMEZONE:Europe/Madrid
DESCRIPTION:De 19.00 a 21.00 hores, a l'Escola Mare de Déu de Montserrat.

URI:https://www.castellbisbal.cat/actualitat/agenda/xviii-jornades-dastronomia-.html
CLASS:PUBLIC
END:VEVENT
END:VCALENDAR
