BEGIN:VCALENDAR
VERSION:2.0
CALSCALE:GREGORIAN
PRODID:-//Diputació de Barcelona//DibaCMS//EN
BEGIN:VEVENT
UID:22612
DTSTAMP:20260423T154935
DTSTART:20240301T180000
DTEND:20240301T180000
SUMMARY:Presentació del curt "Jo soc així"
LOCATION:Avinguda Pau Casals, 16 08755 Castellbisbal
METHOD:PUBLISH
X-WR-CALNAME:comunicacio@castellbisbal.cat
X-WR-TIMEZONE:Europe/Madrid
DESCRIPTION:A les 18.00 hores, a l'espai Montserrat Roig, Els costals.

URI:https://www.castellbisbal.cat/actualitat/agenda/presentacio-del-curt-jo-soc-aixi.html
CLASS:PUBLIC
END:VEVENT
END:VCALENDAR
