BEGIN:VCALENDAR
VERSION:2.0
CALSCALE:GREGORIAN
PRODID:-//Diputació de Barcelona//DibaCMS//EN
BEGIN:VEVENT
UID:22614
DTSTAMP:20260424T231244
DTSTART:20240226T170000
DTEND:20240226T170000
SUMMARY:Xerrada: Alimentació conscient 
LOCATION:C. Major, 109 08755 Castellbisbal
METHOD:PUBLISH
X-WR-CALNAME:comunicacio@castellbisbal.cat
X-WR-TIMEZONE:Europe/Madrid
DESCRIPTION:De 17.00 a 18.00 hores, a l'IE Les Vinyes

URI:https://www.castellbisbal.cat/actualitat/agenda/xerrada-alimentacio-conscient-.html
CLASS:PUBLIC
END:VEVENT
END:VCALENDAR
