BEGIN:VCALENDAR
VERSION:2.0
CALSCALE:GREGORIAN
PRODID:-//Diputació de Barcelona//DibaCMS//EN
BEGIN:VEVENT
UID:22627
DTSTAMP:20260423T232030
DTSTART:20240301T173000
DTEND:20240301T173000
SUMMARY:Dia d'Andalusia: Ofrena floral
LOCATION:Països Catalans, 30 08755 Castellbisbal
METHOD:PUBLISH
X-WR-CALNAME:comunicacio@castellbisbal.cat
X-WR-TIMEZONE:Europe/Madrid
DESCRIPTION:A les 17.30 hores, a l'Olivera del Parc de les Destreses.

URI:https://www.castellbisbal.cat/actualitat/agenda/dia-dandalusia-ofrena-floral.html
CLASS:PUBLIC
END:VEVENT
END:VCALENDAR
