BEGIN:VCALENDAR
VERSION:2.0
CALSCALE:GREGORIAN
PRODID:-//Diputació de Barcelona//DibaCMS//EN
BEGIN:VEVENT
UID:22628
DTSTAMP:20260423T174518
DTSTART:20240302T090000
DTEND:20240302T090000
SUMMARY:Festival del Dia d'Andalusia
LOCATION:Av. de Pau Casals 7 08755 Castellbisbal
METHOD:PUBLISH
X-WR-CALNAME:comunicacio@castellbisbal.cat
X-WR-TIMEZONE:Europe/Madrid
DESCRIPTION:De 9.00 a 14.30 hores, a la pista interior del Casal Cultural i Recreatiu.

URI:https://www.castellbisbal.cat/actualitat/agenda/22628-festival-del-dia-dandalusia.html
CLASS:PUBLIC
END:VEVENT
END:VCALENDAR
