BEGIN:VCALENDAR
VERSION:2.0
CALSCALE:GREGORIAN
PRODID:-//Diputació de Barcelona//DibaCMS//EN
BEGIN:VEVENT
UID:22640
DTSTAMP:20260423T081234
DTSTART:20240307T093000
DTEND:20240307T093000
SUMMARY:Melé de petanca
LOCATION:
METHOD:PUBLISH
X-WR-CALNAME:comunicacio@castellbisbal.cat
X-WR-TIMEZONE:Europe/Madrid
DESCRIPTION:A les 9.30 hores, a la pista de petanca de L'Illa Esportiva.

URI:https://www.castellbisbal.cat/actualitat/agenda/22640-mele-de-petanca.html
CLASS:PUBLIC
END:VEVENT
END:VCALENDAR
