BEGIN:VCALENDAR
VERSION:2.0
CALSCALE:GREGORIAN
PRODID:-//Diputació de Barcelona//DibaCMS//EN
BEGIN:VEVENT
UID:22641
DTSTAMP:20260423T174120
DTSTART:20240307T170000
DTEND:20240307T170000
SUMMARY:Taller: manualitats amb paper
LOCATION:08755 Castellbisbal
METHOD:PUBLISH
X-WR-CALNAME:comunicacio@castellbisbal.cat
X-WR-TIMEZONE:Europe/Madrid
DESCRIPTION:A les 17.00 hores, a la Plaça de l'Esglèsia.

URI:https://www.castellbisbal.cat/actualitat/agenda/taller-manualitats-amb-paper.html
CLASS:PUBLIC
END:VEVENT
END:VCALENDAR
