BEGIN:VCALENDAR
VERSION:2.0
CALSCALE:GREGORIAN
PRODID:-//Diputació de Barcelona//DibaCMS//EN
BEGIN:VEVENT
UID:22642
DTSTAMP:20260424T144727
DTSTART:20240307T170000
DTEND:20240307T170000
SUMMARY:Taller: iniciació al punt
LOCATION:08755 Castellbisbal
METHOD:PUBLISH
X-WR-CALNAME:comunicacio@castellbisbal.cat
X-WR-TIMEZONE:Europe/Madrid
DESCRIPTION:A les 17.00 hores, a la Plaça de l'Esglèsia.

URI:https://www.castellbisbal.cat/actualitat/agenda/taller-iniciacio-al-punt.html
CLASS:PUBLIC
END:VEVENT
END:VCALENDAR
