BEGIN:VCALENDAR
VERSION:2.0
CALSCALE:GREGORIAN
PRODID:-//Diputació de Barcelona//DibaCMS//EN
BEGIN:VEVENT
UID:22660
DTSTAMP:20260423T201856
DTSTART:20240307T190000
DTEND:20240307T190000
SUMMARY:Conferència: Dones i filosofia. Una altra història del pensament és possible
LOCATION:Avinguda Pau Casals, 16 08755 Castellbisbal
METHOD:PUBLISH
X-WR-CALNAME:comunicacio@castellbisbal.cat
X-WR-TIMEZONE:Europe/Madrid
DESCRIPTION:A les 19.00 hores, a l'Espai Montserrat Roig d'Els Costals

URI:https://www.castellbisbal.cat/actualitat/agenda/conferencia-dones-i-filosofia-una-altra-historia-del-pensament-es-possible.html
CLASS:PUBLIC
END:VEVENT
END:VCALENDAR
