BEGIN:VCALENDAR
VERSION:2.0
CALSCALE:GREGORIAN
PRODID:-//Diputació de Barcelona//DibaCMS//EN
BEGIN:VEVENT
UID:22668
DTSTAMP:20260423T095106
DTSTART:20240310T090000
DTEND:20240310T090000
SUMMARY:Activitat esportiva: capgirem l'esport
LOCATION:C. Agricultura, s/n 08755 Castellbisbal
METHOD:PUBLISH
X-WR-CALNAME:comunicacio@castellbisbal.cat
X-WR-TIMEZONE:Europe/Madrid
DESCRIPTION:A les 9.00 hores, al pavelló de l'Illa Esportiva.

URI:https://www.castellbisbal.cat/actualitat/agenda/activitat-esportiva-capgirem-lesport.html
CLASS:PUBLIC
END:VEVENT
END:VCALENDAR
