BEGIN:VCALENDAR
VERSION:2.0
CALSCALE:GREGORIAN
PRODID:-//Diputació de Barcelona//DibaCMS//EN
BEGIN:VEVENT
UID:22669
DTSTAMP:20260423T161254
DTSTART:20240310T120000
DTEND:20240310T120000
SUMMARY:Concert: Les Anxovetes
LOCATION:C. Agricultura, s/n 08755 Castellbisbal
METHOD:PUBLISH
X-WR-CALNAME:comunicacio@castellbisbal.cat
X-WR-TIMEZONE:Europe/Madrid
DESCRIPTION:A les 12.00 hores, a la pista de futbol sala de l'Illa Esportiva.

URI:https://www.castellbisbal.cat/actualitat/agenda/concert-les-anxovetes.html
CLASS:PUBLIC
END:VEVENT
END:VCALENDAR
