BEGIN:VCALENDAR
VERSION:2.0
CALSCALE:GREGORIAN
PRODID:-//Diputació de Barcelona//DibaCMS//EN
BEGIN:VEVENT
UID:22670
DTSTAMP:20260425T052857
DTSTART:20240302T110000
DTEND:20240302T110000
SUMMARY:Jornada: Malalties Minoritàries
LOCATION:08755 Castellbisbal
METHOD:PUBLISH
X-WR-CALNAME:comunicacio@castellbisbal.cat
X-WR-TIMEZONE:Europe/Madrid
DESCRIPTION:De 11.00 a 14.00 hores, a la Plaça de l'Esglèsia.

URI:https://www.castellbisbal.cat/actualitat/agenda/jornada-malalties-minoritaries.html
CLASS:PUBLIC
END:VEVENT
END:VCALENDAR
