BEGIN:VCALENDAR
VERSION:2.0
CALSCALE:GREGORIAN
PRODID:-//Diputació de Barcelona//DibaCMS//EN
BEGIN:VEVENT
UID:22677
DTSTAMP:20260423T171858
DTSTART:20240304T093000
DTEND:20240304T093000
SUMMARY:Salut i Feina: La meva personalitat
LOCATION:Avinguda de Pau Casals, 9 08755 Castellbisbal
METHOD:PUBLISH
X-WR-CALNAME:comunicacio@castellbisbal.cat
X-WR-TIMEZONE:Europe/Madrid
DESCRIPTION:De 9.30 a 13.30 hores, a la Sala de Plens.

URI:https://www.castellbisbal.cat/actualitat/agenda/22677-salut-i-feina-la-meva-personalitat.html
CLASS:PUBLIC
END:VEVENT
END:VCALENDAR
