BEGIN:VCALENDAR
VERSION:2.0
CALSCALE:GREGORIAN
PRODID:-//Diputació de Barcelona//DibaCMS//EN
BEGIN:VEVENT
UID:22682
DTSTAMP:20260424T053642
DTSTART:20240517T110000
DTEND:20240517T110000
SUMMARY:Salut i Feina: Alimentació conscient
LOCATION:Av. de Pau Casals, 16 08755 Castellbisbal
METHOD:PUBLISH
X-WR-CALNAME:comunicacio@castellbisbal.cat
X-WR-TIMEZONE:Europe/Madrid
DESCRIPTION:De 11.00 a 14.00 hores, a l'Espai Margarida Xirgu.

URI:https://www.castellbisbal.cat/actualitat/agenda/salut-i-feina-alimentacio-conscient.html
CLASS:PUBLIC
END:VEVENT
END:VCALENDAR
