BEGIN:VCALENDAR
VERSION:2.0
CALSCALE:GREGORIAN
PRODID:-//Diputació de Barcelona//DibaCMS//EN
BEGIN:VEVENT
UID:22685
DTSTAMP:20260424T203128
DTSTART:20240531T113000
DTEND:20240531T113000
SUMMARY:Salut i Feina: Entrenament funcional
LOCATION:C. Agricultura, s/n 08755 Castellbisbal
METHOD:PUBLISH
X-WR-CALNAME:comunicacio@castellbisbal.cat
X-WR-TIMEZONE:Europe/Madrid
DESCRIPTION:De 11.30 a 13.30 hores, a l'Illa Esportiva.

URI:https://www.castellbisbal.cat/actualitat/agenda/22685-salut-i-feina-entrenament-funcional.html
CLASS:PUBLIC
END:VEVENT
END:VCALENDAR
