BEGIN:VCALENDAR
VERSION:2.0
CALSCALE:GREGORIAN
PRODID:-//Diputació de Barcelona//DibaCMS//EN
BEGIN:VEVENT
UID:22689
DTSTAMP:20260424T062011
DTSTART:20240303T113000
DTEND:20240303T113000
SUMMARY:Jugatecambiental: El calendari del pagès
LOCATION:Parc de l'Ermita 08755 Castellbisbal
METHOD:PUBLISH
X-WR-CALNAME:comunicacio@castellbisbal.cat
X-WR-TIMEZONE:Europe/Madrid
DESCRIPTION:A les 11.30 hores, al Parc de l'Ermita.

URI:https://www.castellbisbal.cat/actualitat/agenda/22689-jugatecambiental-el-calendari-del-pages.html
CLASS:PUBLIC
END:VEVENT
END:VCALENDAR
