BEGIN:VCALENDAR
VERSION:2.0
CALSCALE:GREGORIAN
PRODID:-//Diputació de Barcelona//DibaCMS//EN
BEGIN:VEVENT
UID:22694
DTSTAMP:20260423T083317
DTSTART:20240414T113000
DTEND:20240414T113000
SUMMARY:Jugatecambiental: Quin soroll! Contaminació acústica
LOCATION:Parc de l'Ermita 08755 Castellbisbal
METHOD:PUBLISH
X-WR-CALNAME:comunicacio@castellbisbal.cat
X-WR-TIMEZONE:Europe/Madrid
DESCRIPTION:A les 11.30 hores, al Parc de l'Ermita.

URI:https://www.castellbisbal.cat/actualitat/agenda/22694-jugatecambiental-quin-soroll-contaminacio-acustica.html
CLASS:PUBLIC
END:VEVENT
END:VCALENDAR
