BEGIN:VCALENDAR
VERSION:2.0
CALSCALE:GREGORIAN
PRODID:-//Diputació de Barcelona//DibaCMS//EN
BEGIN:VEVENT
UID:22696
DTSTAMP:20260423T182405
DTSTART:20240428T113000
DTEND:20240428T113000
SUMMARY:Jugatecambiental: El dia de les papallones. Els colors del parc!
LOCATION:Parc de l'Ermita 08755 Castellbisbal
METHOD:PUBLISH
X-WR-CALNAME:comunicacio@castellbisbal.cat
X-WR-TIMEZONE:Europe/Madrid
DESCRIPTION:ACTIVITAT ANUL·LADA PER MOTIUS METEOROLÒGICS.

A les 11.30 hores, al Parc de l'Ermita.

URI:https://www.castellbisbal.cat/actualitat/agenda/jugatecambiental-el-dia-de-les-papallones-els-colors-del-parc.html
CLASS:PUBLIC
END:VEVENT
END:VCALENDAR
