BEGIN:VCALENDAR
VERSION:2.0
CALSCALE:GREGORIAN
PRODID:-//Diputació de Barcelona//DibaCMS//EN
BEGIN:VEVENT
UID:22697
DTSTAMP:20260423T063953
DTSTART:20240505T113000
DTEND:20240505T113000
SUMMARY:Jugatecambiental: Els amfibis i els rèptils viuen a les ciutats
LOCATION:Parc de l'Ermita 08755 Castellbisbal
METHOD:PUBLISH
X-WR-CALNAME:comunicacio@castellbisbal.cat
X-WR-TIMEZONE:Europe/Madrid
DESCRIPTION:A les 11.30 hores, al Parc de l'Ermita.

URI:https://www.castellbisbal.cat/actualitat/agenda/jugatecambiental-els-amfibis-i-els-reptils-viuen-a-les-ciutats.html
CLASS:PUBLIC
END:VEVENT
END:VCALENDAR
