BEGIN:VCALENDAR
VERSION:2.0
CALSCALE:GREGORIAN
PRODID:-//Diputació de Barcelona//DibaCMS//EN
BEGIN:VEVENT
UID:22698
DTSTAMP:20260424T202731
DTSTART:20240512T113000
DTEND:20240512T113000
SUMMARY:Jugatecambiental: Agafem el cabàs
LOCATION:Parc de l'Ermita 08755 Castellbisbal
METHOD:PUBLISH
X-WR-CALNAME:comunicacio@castellbisbal.cat
X-WR-TIMEZONE:Europe/Madrid
DESCRIPTION:A les 11.30 hores, al Parc de l'Ermita.

URI:https://www.castellbisbal.cat/actualitat/agenda/22698-jugatecambiental-agafem-el-cabas.html
CLASS:PUBLIC
END:VEVENT
END:VCALENDAR
