BEGIN:VCALENDAR
VERSION:2.0
CALSCALE:GREGORIAN
PRODID:-//Diputació de Barcelona//DibaCMS//EN
BEGIN:VEVENT
UID:22699
DTSTAMP:20260425T030542
DTSTART:20240519T113000
DTEND:20240519T113000
SUMMARY:Jugatecambiental: Els rapinyaires del parc
LOCATION:Parc de l'Ermita 08755 Castellbisbal
METHOD:PUBLISH
X-WR-CALNAME:comunicacio@castellbisbal.cat
X-WR-TIMEZONE:Europe/Madrid
DESCRIPTION:A les 11.30 hores, al Parc de l'Ermita.

URI:https://www.castellbisbal.cat/actualitat/agenda/jugatecambiental-els-rapinyaires-del-parc.html
CLASS:PUBLIC
END:VEVENT
END:VCALENDAR
