BEGIN:VCALENDAR
VERSION:2.0
CALSCALE:GREGORIAN
PRODID:-//Diputació de Barcelona//DibaCMS//EN
BEGIN:VEVENT
UID:22700
DTSTAMP:20260423T032100
DTSTART:20240526T113000
DTEND:20240526T113000
SUMMARY:Jugatecambiental: Bioblitz Metropolità. Ciència ciutadana
LOCATION:Parc de l'Ermita 08755 Castellbisbal
METHOD:PUBLISH
X-WR-CALNAME:comunicacio@castellbisbal.cat
X-WR-TIMEZONE:Europe/Madrid
DESCRIPTION:A les 11.30 hores, al Parc de l'Ermita.

URI:https://www.castellbisbal.cat/actualitat/agenda/22700-jugatecambiental-bioblitz-metropolita-ciencia-ciutadana.html
CLASS:PUBLIC
END:VEVENT
END:VCALENDAR
