BEGIN:VCALENDAR
VERSION:2.0
CALSCALE:GREGORIAN
PRODID:-//Diputació de Barcelona//DibaCMS//EN
BEGIN:VEVENT
UID:22701
DTSTAMP:20260424T160409
DTSTART:20240602T113000
DTEND:20240602T113000
SUMMARY:Jugatecambiental: El Twister de l'aigua
LOCATION:Parc de l'Ermita 08755 Castellbisbal
METHOD:PUBLISH
X-WR-CALNAME:comunicacio@castellbisbal.cat
X-WR-TIMEZONE:Europe/Madrid
DESCRIPTION:A les 11.30 hores, al Parc de l'Ermita.

URI:https://www.castellbisbal.cat/actualitat/agenda/22701-jugatecambiental-el-twister-de-laigua.html
CLASS:PUBLIC
END:VEVENT
END:VCALENDAR
