BEGIN:VCALENDAR
VERSION:2.0
CALSCALE:GREGORIAN
PRODID:-//Diputació de Barcelona//DibaCMS//EN
BEGIN:VEVENT
UID:22704
DTSTAMP:20260423T070423
DTSTART:20240502T190000
DTEND:20240502T190000
SUMMARY:Conferència: Joan Salvat-Papasseit i el Poema de la rosa als llavis
LOCATION:Avinguda Pau Casals, 16 08755 Castellbisbal
METHOD:PUBLISH
X-WR-CALNAME:comunicacio@castellbisbal.cat
X-WR-TIMEZONE:Europe/Madrid
DESCRIPTION:A les 19.00 hores, a l'Espai Montserrat Roig d'Els Costals.

URI:https://www.castellbisbal.cat/actualitat/agenda/conferencia-joan-salvat-papasseit-i-el-poema-de-la-rosa-als-llavis.html
CLASS:PUBLIC
END:VEVENT
END:VCALENDAR
