BEGIN:VCALENDAR
VERSION:2.0
CALSCALE:GREGORIAN
PRODID:-//Diputació de Barcelona//DibaCMS//EN
BEGIN:VEVENT
UID:22709
DTSTAMP:20260425T055557
DTSTART:20240315T200000
DTEND:20240315T200000
SUMMARY:Recital de poemes: Torras i Torres
LOCATION:Avinguda Pau Casals, 16 08755 Castellbisbal
METHOD:PUBLISH
X-WR-CALNAME:comunicacio@castellbisbal.cat
X-WR-TIMEZONE:Europe/Madrid
DESCRIPTION:A les 20.00 hores, a l'Espai Montserrat Roig d'Els Costals.

URI:https://www.castellbisbal.cat/actualitat/agenda/recital-de-poemes-torras-i-torres.html
CLASS:PUBLIC
END:VEVENT
END:VCALENDAR
