BEGIN:VCALENDAR
VERSION:2.0
CALSCALE:GREGORIAN
PRODID:-//Diputació de Barcelona//DibaCMS//EN
BEGIN:VEVENT
UID:22712
DTSTAMP:20260425T040409
DTSTART:20240314T173000
DTEND:20240314T173000
SUMMARY:Contes menuts: Les formigues també ballen
LOCATION:Av. de Pau Casals, 16 08755 Castellbisbal
METHOD:PUBLISH
X-WR-CALNAME:comunicacio@castellbisbal.cat
X-WR-TIMEZONE:Europe/Madrid
DESCRIPTION:A les 17.30 hores, a la Biblioteca Josep Mateu i Miró.

URI:https://www.castellbisbal.cat/actualitat/agenda/biblioteca/contes-menuts-les-formigues-tambe-ballen.html
CLASS:PUBLIC
END:VEVENT
END:VCALENDAR
