BEGIN:VCALENDAR
VERSION:2.0
CALSCALE:GREGORIAN
PRODID:-//Diputació de Barcelona//DibaCMS//EN
BEGIN:VEVENT
UID:22732
DTSTAMP:20260423T162725
DTSTART:20240311T090000
DTEND:20240311T090000
SUMMARY:Teoria carnet logística: Carretó elevador 
LOCATION:Av. de Pau Casals, 16 08755 Castellbisbal
METHOD:PUBLISH
X-WR-CALNAME:comunicacio@castellbisbal.cat
X-WR-TIMEZONE:Europe/Madrid
DESCRIPTION:De 9.00 a 13.30 hores, a la Sala Multimèdia d'Els Costals de Castellbisbal.

URI:https://www.castellbisbal.cat/actualitat/agenda/teoria-carnet-logistica-carreto-elevador-.html
CLASS:PUBLIC
END:VEVENT
END:VCALENDAR
