BEGIN:VCALENDAR
VERSION:2.0
CALSCALE:GREGORIAN
PRODID:-//Diputació de Barcelona//DibaCMS//EN
BEGIN:VEVENT
UID:22739
DTSTAMP:20260423T174059
DTSTART:20240322T080000
DTEND:20240322T080000
SUMMARY:Pràctica carnet logística: Pont Grua
LOCATION:IFTEM, Cornellà de Llobregat. 
METHOD:PUBLISH
X-WR-CALNAME:comunicacio@castellbisbal.cat
X-WR-TIMEZONE:Europe/Madrid
DESCRIPTION:De 8.00 a 13.00 hores, a IFTEM, a Cornellà de Llobregat.

URI:https://www.castellbisbal.cat/actualitat/agenda/practica-carnet-logistica-pont-grua.html
CLASS:PUBLIC
END:VEVENT
END:VCALENDAR
