BEGIN:VCALENDAR
VERSION:2.0
CALSCALE:GREGORIAN
PRODID:-//Diputació de Barcelona//DibaCMS//EN
BEGIN:VEVENT
UID:22748
DTSTAMP:20260423T075631
DTSTART:20240414T180000
DTEND:20240414T180000
SUMMARY:Teatre: "Barcelona" amb Molta Comèdia
LOCATION:Av. de Pau Casals, 16 08755 Castellbisbal
METHOD:PUBLISH
X-WR-CALNAME:comunicacio@castellbisbal.cat
X-WR-TIMEZONE:Europe/Madrid
DESCRIPTION:A les 18.00 hores, a l'Auditori d'Els Costals.

URI:https://www.castellbisbal.cat/actualitat/agenda/22748-teatre-barcelona-amb-molta-comedia.html
CLASS:PUBLIC
END:VEVENT
END:VCALENDAR
