BEGIN:VCALENDAR
VERSION:2.0
CALSCALE:GREGORIAN
PRODID:-//Diputació de Barcelona//DibaCMS//EN
BEGIN:VEVENT
UID:22750
DTSTAMP:20260424T031523
DTSTART:20240420T130000
DTEND:20240420T130000
SUMMARY:Música: Trobada de baixos de TABE
LOCATION:Av. de Pau Casals, 16 08755 Castellbisbal
METHOD:PUBLISH
X-WR-CALNAME:comunicacio@castellbisbal.cat
X-WR-TIMEZONE:Europe/Madrid
DESCRIPTION:A les 13.00 hores, a l'Auditori d'Els Costals.

URI:https://www.castellbisbal.cat/actualitat/agenda/musica-trobada-de-baixos-de-tabe.html
CLASS:PUBLIC
END:VEVENT
END:VCALENDAR
